BEGIN:VCALENDAR
VERSION:2.0
PRODID:-//Tukios.com/
BEGIN:VEVENT
UID:d921033e-16b0-447a-b183-670e74d30102@www.hagan-chamberlain.com
DTSTAMP:20260420T035218Z
DTSTART:20260422T170000Z
DTEND:20260422T180000Z
SUMMARY:Graveside Service
DESCRIPTION:
URL:https://www.hagan-chamberlain.com/obituaries/sheldon-guss
LOCATION:  Chimney Rock Road  Bridgewater NJ 08807
GEO:40.5802753;-74.557684
END:VEVENT
END:VCALENDAR